BEGIN:VCALENDAR
VERSION:2.0
PRODID:-//Discover Newport Vermont - ECPv6.10.1//NONSGML v1.0//EN
CALSCALE:GREGORIAN
METHOD:PUBLISH
X-WR-CALNAME:Discover Newport Vermont
X-ORIGINAL-URL:https://discovernewportvt.com
X-WR-CALDESC:Events for Discover Newport Vermont
REFRESH-INTERVAL;VALUE=DURATION:PT1H
X-Robots-Tag:noindex
X-PUBLISHED-TTL:PT1H
BEGIN:VTIMEZONE
TZID:America/New_York
BEGIN:DAYLIGHT
TZOFFSETFROM:-0500
TZOFFSETTO:-0400
TZNAME:EDT
DTSTART:20240310T070000
END:DAYLIGHT
BEGIN:STANDARD
TZOFFSETFROM:-0400
TZOFFSETTO:-0500
TZNAME:EST
DTSTART:20241103T060000
END:STANDARD
END:VTIMEZONE
BEGIN:VEVENT
DTSTART;TZID=America/New_York:20241026T140000
DTEND;TZID=America/New_York:20241026T140000
DTSTAMP:20260421T133908
CREATED:20240316T071329Z
LAST-MODIFIED:20241009T202640Z
UID:239484-1729951200-1729951200@discovernewportvt.com
SUMMARY:Vampire Swim
DESCRIPTION:﻿\nJoin our ghoulish Vampire Swim party as we team up with venues around the world in this international blood drive by cold water swimmers. \nOn Saturday\, October 27th\, 2024 at 2 pm we will be swimming 25 to 100 meters in the chillies of Lake Memphremagog. Costumes are encouraged. We swim from the The Clubhous beach. \nAfter party at The Clubhous \nRegistration is $15 plus proof that you have donated blood within the six weeks prior to the swim. If you can’t donate\, you can have a surrogate donate OR make a $25 donation to the Red Cross.
URL:https://discovernewportvt.com/event/vampire-swim-2/
ATTACH;FMTTYPE=image/jpeg:https://discovernewportvt.com/wp-content/uploads/Vampire-Swim-Logo.jpg
END:VEVENT
END:VCALENDAR