BEGIN:VCALENDAR
VERSION:2.0
PRODID:-//Discover Newport Vermont - ECPv6.10.1//NONSGML v1.0//EN
CALSCALE:GREGORIAN
METHOD:PUBLISH
X-WR-CALNAME:Discover Newport Vermont
X-ORIGINAL-URL:https://discovernewportvt.com
X-WR-CALDESC:Events for Discover Newport Vermont
REFRESH-INTERVAL;VALUE=DURATION:PT1H
X-Robots-Tag:noindex
X-PUBLISHED-TTL:PT1H
BEGIN:VTIMEZONE
TZID:America/New_York
BEGIN:DAYLIGHT
TZOFFSETFROM:-0500
TZOFFSETTO:-0400
TZNAME:EDT
DTSTART:20250309T070000
END:DAYLIGHT
BEGIN:STANDARD
TZOFFSETFROM:-0400
TZOFFSETTO:-0500
TZNAME:EST
DTSTART:20251102T060000
END:STANDARD
END:VTIMEZONE
BEGIN:VEVENT
DTSTART;TZID=America/New_York:20250213T180000
DTEND;TZID=America/New_York:20250213T203000
DTSTAMP:20260423T065030
CREATED:20250212T171646Z
LAST-MODIFIED:20250212T171646Z
UID:243985-1739469600-1739478600@discovernewportvt.com
SUMMARY:Thursday Night Trade Night
DESCRIPTION:Sport & TCG Cards!!!\nBring your cards to show off\, trade\, sell or buy. We are hosting this for all in the card community to come and engage with other collectors and have some fun. All age groups are welcome. Looking forward to seeing everyone come in and meet each other for a night of fun. Dungeon and Dragons players are welcome as well. We have inventory arriving this week for the D&D Community.
URL:https://discovernewportvt.com/event/thursday-night-trade-night/
LOCATION:Thursday Night Trade\, 1257 East Main Street\, Newport\, VT\, 05855\, United States
ATTACH;FMTTYPE=image/jpeg:https://discovernewportvt.com/wp-content/uploads/TradeNight.jpg
END:VEVENT
END:VCALENDAR