BEGIN:VCALENDAR
VERSION:2.0
PRODID:-//Discover Newport Vermont - ECPv6.10.1//NONSGML v1.0//EN
CALSCALE:GREGORIAN
METHOD:PUBLISH
X-WR-CALNAME:Discover Newport Vermont
X-ORIGINAL-URL:https://discovernewportvt.com
X-WR-CALDESC:Events for Discover Newport Vermont
REFRESH-INTERVAL;VALUE=DURATION:PT1H
X-Robots-Tag:noindex
X-PUBLISHED-TTL:PT1H
BEGIN:VTIMEZONE
TZID:America/New_York
BEGIN:DAYLIGHT
TZOFFSETFROM:-0500
TZOFFSETTO:-0400
TZNAME:EDT
DTSTART:20250309T070000
END:DAYLIGHT
BEGIN:STANDARD
TZOFFSETFROM:-0400
TZOFFSETTO:-0500
TZNAME:EST
DTSTART:20251102T060000
END:STANDARD
END:VTIMEZONE
BEGIN:VEVENT
DTSTART;TZID=America/New_York:20250406T150000
DTEND;TZID=America/New_York:20250406T170000
DTSTAMP:20260423T050928
CREATED:20250403T151636Z
LAST-MODIFIED:20250403T152043Z
UID:244259-1743951600-1743958800@discovernewportvt.com
SUMMARY:The Play That Goes Wrong
DESCRIPTION:The time is right to see THE PLAY THAT GOES WRONG\, Broadway’s funniest smash hit! This Olivier Award-winning comedy is a hilarious hybrid of Monty Python and Sherlock Holmes. Welcome to opening night of The Murder at Haversham Manor where things are quickly going from bad to utterly disastrous. With an unconscious leading lady\, a corpse that can’t play dead\, and actors who trip over everything (including their lines)\, it’s “A RIOTOUS EXPLOSION OF COMEDY!” (The Daily Beast) and “TONS OF FUN FOR ALL AGES!” (HuffPost). Ben Brantley of The New York Times calls THE PLAY THAT GOES WRONG “A GUT-BUSTING HIT\,” and Cindy Adams of the New York Post has just one word for you: “GO!” Get tickets now – it would be WRONG to wait!\nPresented by arrangement with Dramatists Play Service under license from Mischief Worldwide Ltd.\nRun-time: Approximately 2 hours (give or take with a brief intermission )\nThis show is intended for those ages 12+ (absolutely noYoung children/infants will be permitted)\nTICKETS: The MAC Center for the Arts\, Newport\, VT; The Colby-Curtis Museum\, Stanstead\,QC; https://www.catamountarts.org/…/the-play-that-goes-wrong/While tickets last at the Box Office starting 30 before showtime.Ticket reservations made by emailing: borderlineplayer@outlook.com (Day of reservations close at 1pm Friday/Saturday and 9 am on Sundays).Due to the limited seating we suggest advanced booking whenever possible.(Ticket sales are non-refundable).\nTicket Pricing (cash/check only onsite)$20 – Adult (18-64)($25 Canadian funds)$15 – Youth (12-17) & Senior (65+) ($20 Canadian Funds)$10 – Community Circle (must show membership card for discount)$30 Generous Contributor’s Ticket (12-99)**Those who are feeling generous may contribute Borderline Players with a small gesture of a higher ticket price; which helps in sustaining the arts in our community.*\nLocation:First Universalist Parish Hall112 Main StreetDerby Line\, Vermont 05830(Our Canadian patrons will need to report to customs for this event).\nParking:We know there is limited parking on Main Street\, however there is ample parking in town on Baxter Avenue\, Pelow Hill and in unused lots during off hours such as Community National Bank\, Derby Line Post Office\, St. Edwards Parish\, etc.Please respect handicap parking and consider spots in front of the building for those may need greater accessibility.\nTheatre Etiquette :Please be on time. Seas ring will open for this show at 6:30pm on Fridays and Saturdays and 2:30pm on Sundays. In the event you are late\, please note: our staff will see you at the first time available . This may mean standing in the back until the next blackout and/or intermission.\nThere will be zero phone/smartwatch/tablet use during the show which includes but is not limited to: photography\, filming and/or talking/texting during the performance\, etc. Violators may be asked to leave.\nThere is no outside food or drink permitted. Water is for sale by donation at the venue.\nPlease do not attend a show if you aren’t feeling well. Masks are always welcome! When sneezing/coughing please cover your mouth and nose.\nPlease avoid wearing any perfumes\, colognes and scented products to the shows.\nLimit talking/whispering during the performance.Please open and cough drops/water bottles and use the restrooms before the start of the show.\nCushions are available by donation. We want to ensure everyone has a comfortable viewing experience. In order to maintain a clean and safe environment for everyone\, we kindly ask that you refrain from bringing personal cushions or blankets. This helps us prevent any potential healthy and/or hygiene issues. (Cushions are sanitized after each use.)\nSpecial Effects: This show features many special effects and unexpected moments that add to the fun and adventure!
URL:https://discovernewportvt.com/event/the-play-that-goes-wrong-2/
LOCATION:First Universalist Parish of Derby Line\, Vermont\, 112 Main St\, Derby Line\, VT 05830\, United States\, United States
ATTACH;FMTTYPE=image/jpeg:https://discovernewportvt.com/wp-content/uploads/22.jpg
END:VEVENT
END:VCALENDAR