BEGIN:VCALENDAR
VERSION:2.0
PRODID:-//Discover Newport Vermont - ECPv6.10.1//NONSGML v1.0//EN
CALSCALE:GREGORIAN
METHOD:PUBLISH
X-WR-CALNAME:Discover Newport Vermont
X-ORIGINAL-URL:https://discovernewportvt.com
X-WR-CALDESC:Events for Discover Newport Vermont
REFRESH-INTERVAL;VALUE=DURATION:PT1H
X-Robots-Tag:noindex
X-PUBLISHED-TTL:PT1H
BEGIN:VTIMEZONE
TZID:America/New_York
BEGIN:DAYLIGHT
TZOFFSETFROM:-0500
TZOFFSETTO:-0400
TZNAME:EDT
DTSTART:20250309T070000
END:DAYLIGHT
BEGIN:STANDARD
TZOFFSETFROM:-0400
TZOFFSETTO:-0500
TZNAME:EST
DTSTART:20251102T060000
END:STANDARD
END:VTIMEZONE
BEGIN:VEVENT
DTSTART;TZID=America/New_York:20251211T120000
DTEND;TZID=America/New_York:20251211T170000
DTSTAMP:20260425T105254
CREATED:20251208T193650Z
LAST-MODIFIED:20251208T193650Z
UID:244992-1765454400-1765472400@discovernewportvt.com
SUMMARY:Proposed Northland Solar Project Public Utilities Site Visit --> ≈ 15\,000 panels
DESCRIPTION:The Public Utilities Commission will be in Lowell this Thursday\, December 11th at noon to walk the proposed Northland Solar project site.\n Where to Park: Lowell Graded School or Town Offices Where to Meet: Walk to the site access drive across Route 100 (look for a sign or flag) Time: 12:00 pm\nBe ready for snow\, cold\, and a full site walk—possibly including nearby properties and the cemetery. Dress warm and wear good boots!\nThis is a big moment for our town. Whether you’re supportive\, opposed\, or still deciding\, your presence matters. Even if you don’t hike the site\, showing up at the meeting point lets the Commission and developer know that Lowell is paying attention and engaged.\nLive anywhere in the purple zone? That’s where the project could impact your view. And yes—that’s Route 100 running straight through the middle.
URL:https://discovernewportvt.com/event/proposed-northland-solar-project-public-utilities-site-visit-%e2%89%88-15000-panels/
LOCATION:Lowell Graded School\, 52 Gelo Park Rd\, Lowell\, VT 05847\, VT\, United States
ATTACH;FMTTYPE=image/jpeg:https://discovernewportvt.com/wp-content/uploads/1-13.jpg
END:VEVENT
END:VCALENDAR