BEGIN:VCALENDAR
VERSION:2.0
PRODID:-//Discover Newport Vermont - ECPv6.10.1//NONSGML v1.0//EN
CALSCALE:GREGORIAN
METHOD:PUBLISH
X-WR-CALNAME:Discover Newport Vermont
X-ORIGINAL-URL:https://discovernewportvt.com
X-WR-CALDESC:Events for Discover Newport Vermont
REFRESH-INTERVAL;VALUE=DURATION:PT1H
X-Robots-Tag:noindex
X-PUBLISHED-TTL:PT1H
BEGIN:VTIMEZONE
TZID:America/New_York
BEGIN:DAYLIGHT
TZOFFSETFROM:-0500
TZOFFSETTO:-0400
TZNAME:EDT
DTSTART:20260308T070000
END:DAYLIGHT
BEGIN:STANDARD
TZOFFSETFROM:-0400
TZOFFSETTO:-0500
TZNAME:EST
DTSTART:20261101T060000
END:STANDARD
END:VTIMEZONE
BEGIN:VEVENT
DTSTART;TZID=America/New_York:20260422T110000
DTEND;TZID=America/New_York:20260422T120000
DTSTAMP:20260422T070803
CREATED:20260420T165913Z
LAST-MODIFIED:20260420T165913Z
UID:245536-1776855600-1776859200@discovernewportvt.com
SUMMARY:Midweek Coffee & Prayer in Fellowship Hall
DESCRIPTION:Come enjoy a relaxed midweek gathering where everyone is welcome. Share a cup of coffee\, connect with others\, and spend meaningful time in prayer and encouragement. A simple\, peaceful space to pause and refocus together.
URL:https://discovernewportvt.com/event/midweek-coffee-prayer-in-fellowship-hall-3/
LOCATION:51 Alderbrook rd\, Newport\, VT\, United States\, Vermont 05855\, 51 Alderbrook Rd\, Newport\, VT 05855\, VT\, United States
ATTACH;FMTTYPE=image/jpeg:https://discovernewportvt.com/wp-content/uploads/1-19.jpg
END:VEVENT
END:VCALENDAR