BEGIN:VCALENDAR
VERSION:2.0
PRODID:-//Discover Newport Vermont - ECPv6.10.1//NONSGML v1.0//EN
CALSCALE:GREGORIAN
METHOD:PUBLISH
X-WR-CALNAME:Discover Newport Vermont
X-ORIGINAL-URL:https://discovernewportvt.com
X-WR-CALDESC:Events for Discover Newport Vermont
REFRESH-INTERVAL;VALUE=DURATION:PT1H
X-Robots-Tag:noindex
X-PUBLISHED-TTL:PT1H
BEGIN:VTIMEZONE
TZID:America/New_York
BEGIN:DAYLIGHT
TZOFFSETFROM:-0500
TZOFFSETTO:-0400
TZNAME:EDT
DTSTART:20250309T070000
END:DAYLIGHT
BEGIN:STANDARD
TZOFFSETFROM:-0400
TZOFFSETTO:-0500
TZNAME:EST
DTSTART:20251102T060000
END:STANDARD
END:VTIMEZONE
BEGIN:VEVENT
DTSTART;TZID=America/New_York:20250221T080000
DTEND;TZID=America/New_York:20250221T210000
DTSTAMP:20260421T050246
CREATED:20250212T165023Z
LAST-MODIFIED:20250212T165023Z
UID:243961-1740124800-1740171600@discovernewportvt.com
SUMMARY:Memphremagog Winter Swim Festival
DESCRIPTION:8 am – Sign in opens at The EastSide\n9:30 am – Safety Meetings – Swimmers Indoors\, Volunteers on the Ice\n10:00 am – 25 Meter Hat Competition\nLunch\n1:00 pm – 200 Meter Free Style\n3:00 pm – Cocktail Party – EastSide Restaurant\n4:00 pm to 6:00 pm – Water Women Film Festivalm (probably at Jasper’s Tavern)\n6:00 pm to 9:00 pm – Dinner Around Town
URL:https://discovernewportvt.com/event/memphremagog-winter-swim-festival-4/
LOCATION:Newport\, Newport\, VT\, 05855\, United States
ATTACH;FMTTYPE=image/webp:https://discovernewportvt.com/wp-content/uploads/GroupSwim.webp
END:VEVENT
END:VCALENDAR