BEGIN:VCALENDAR
VERSION:2.0
PRODID:-//Discover Newport Vermont - ECPv6.10.1//NONSGML v1.0//EN
CALSCALE:GREGORIAN
METHOD:PUBLISH
X-WR-CALNAME:Discover Newport Vermont
X-ORIGINAL-URL:https://discovernewportvt.com
X-WR-CALDESC:Events for Discover Newport Vermont
REFRESH-INTERVAL;VALUE=DURATION:PT1H
X-Robots-Tag:noindex
X-PUBLISHED-TTL:PT1H
BEGIN:VTIMEZONE
TZID:America/New_York
BEGIN:DAYLIGHT
TZOFFSETFROM:-0500
TZOFFSETTO:-0400
TZNAME:EDT
DTSTART:20250309T070000
END:DAYLIGHT
BEGIN:STANDARD
TZOFFSETFROM:-0400
TZOFFSETTO:-0500
TZNAME:EST
DTSTART:20251102T060000
END:STANDARD
END:VTIMEZONE
BEGIN:VEVENT
DTSTART;TZID=America/New_York:20250415T180000
DTEND;TZID=America/New_York:20250415T193000
DTSTAMP:20260421T045435
CREATED:20250403T140830Z
LAST-MODIFIED:20250403T140830Z
UID:244217-1744740000-1744745400@discovernewportvt.com
SUMMARY:Guided Line Dancing
DESCRIPTION:Guided Line Dancing begins Tuesday\, April 15! This will be a weekly event\, with pre-registration (direct message Angie’s Place to do this) required no later than the Sunday before. These sessions will be held EVERY Tuesday through May 20\, from 6:00-7:30 PM. You will need to register for each week. The cost is $5 per person\, per week. Space is limited\, so each week is limited to 20 participants\, so please plan ahead and don’t forget to register by sending a DM to us!
URL:https://discovernewportvt.com/event/guided-line-dancing/
LOCATION:Angie’s Place\, 1688 VT-105\, Newport\, VT 05855\, United States\, United States
ATTACH;FMTTYPE=image/jpeg:https://discovernewportvt.com/wp-content/uploads/9-1.jpg
END:VEVENT
END:VCALENDAR