BEGIN:VCALENDAR
VERSION:2.0
PRODID:-//Discover Newport Vermont - ECPv6.10.1//NONSGML v1.0//EN
CALSCALE:GREGORIAN
METHOD:PUBLISH
X-WR-CALNAME:Discover Newport Vermont
X-ORIGINAL-URL:https://discovernewportvt.com
X-WR-CALDESC:Events for Discover Newport Vermont
REFRESH-INTERVAL;VALUE=DURATION:PT1H
X-Robots-Tag:noindex
X-PUBLISHED-TTL:PT1H
BEGIN:VTIMEZONE
TZID:America/New_York
BEGIN:DAYLIGHT
TZOFFSETFROM:-0500
TZOFFSETTO:-0400
TZNAME:EDT
DTSTART:20250309T070000
END:DAYLIGHT
BEGIN:STANDARD
TZOFFSETFROM:-0400
TZOFFSETTO:-0500
TZNAME:EST
DTSTART:20251102T060000
END:STANDARD
END:VTIMEZONE
BEGIN:VEVENT
DTSTART;TZID=America/New_York:20251026T180000
DTEND;TZID=America/New_York:20251026T210000
DTSTAMP:20260423T051003
CREATED:20251023T021052Z
LAST-MODIFIED:20251023T021052Z
UID:244843-1761501600-1761512400@discovernewportvt.com
SUMMARY:Gig-Tavern on the Hill
DESCRIPTION:
URL:https://discovernewportvt.com/event/gig-tavern-on-the-hill-2/
LOCATION:Tavern on the Hill – Newport Vt.\, 1724 E Main St\, Newport\, VT 05855\, United States\, United States
ATTACH;FMTTYPE=image/jpeg:https://discovernewportvt.com/wp-content/uploads/5-6.jpg
END:VEVENT
END:VCALENDAR