BEGIN:VCALENDAR
VERSION:2.0
PRODID:-//Discover Newport Vermont - ECPv6.10.1//NONSGML v1.0//EN
CALSCALE:GREGORIAN
METHOD:PUBLISH
X-WR-CALNAME:Discover Newport Vermont
X-ORIGINAL-URL:https://discovernewportvt.com
X-WR-CALDESC:Events for Discover Newport Vermont
REFRESH-INTERVAL;VALUE=DURATION:PT1H
X-Robots-Tag:noindex
X-PUBLISHED-TTL:PT1H
BEGIN:VTIMEZONE
TZID:America/New_York
BEGIN:DAYLIGHT
TZOFFSETFROM:-0500
TZOFFSETTO:-0400
TZNAME:EDT
DTSTART:20240310T070000
END:DAYLIGHT
BEGIN:STANDARD
TZOFFSETFROM:-0400
TZOFFSETTO:-0500
TZNAME:EST
DTSTART:20241103T060000
END:STANDARD
END:VTIMEZONE
BEGIN:VEVENT
DTSTART;TZID=America/New_York:20241005T090000
DTEND;TZID=America/New_York:20241005T090000
DTSTAMP:20260425T090434
CREATED:20230616T175733Z
LAST-MODIFIED:20241009T202647Z
UID:238505-1728118800-1728118800@discovernewportvt.com
SUMMARY:Fly to Pie\, Kingdom Marathon
DESCRIPTION:Run\, Bike or Hike – 26.2\, 17\, 13.5\, and 6 miles – Doin’ the dirt through the gut of the Kingdom at the height of Fall Foliage. We start at the NEK International Airport in Coventry (or at the Irasburg Common for the 10 km option) and finish at Parker Pie\, West Glover. All the pizza you can eat\, Hill Farmstead Beer on tap\, some fine music. One of the toughest\, most spectacular marathons east of the Mississippi. Just the best way to finish up our year. \nStart (Long Courses): Newport Airport and Lakeview Aviation\, 2628 Airport Rd\, Newport\, VT 05855\nStart (6 Mile Course): Irasburg Common\nFinish: Parker Pie\, 161 County Rd\, West Glover\, VT 05875\nParty at Parker: All the pizza you can eat\, Cash Bar with Hill Farmstead and other local beers on tap.\nShuttle back to the Start provided by Jay Peak \nStart Times:\nRunners: 9:00 am\nIrasburg 6 milers: 10:30 am\nBikers: 11:30 am\nSign-in opens at 8 am at Lakeview Aviation for runners and 10:30 for cyclists and 9:30 am on the Irasburg Common. \nSign-in opens at 8 am at Lakeview Aviation for runners and 10:30 for cyclists and 9:30 am on the Irasburg Common. \nPrizes Include: Brault’s Beef Jerky\, and Couture’s Maple Syrup. \nSpecial Trophy in the Team Challenge: Teams of 3 to 10 runners and bikers. We take the fastest three times in each division. The Big Pizza Pie Trophy (take home) goes to the winning team.\nThere are four great routes\, offering four very different options to all types of athletes\, runners\, bikers\, and hikers of all ages and all abilities. A tough\, “vista riddled\,” and spectacularly beautiful full marathon that will challenge the best marathon runner. The 13.5 distance is also the course for the family bike challenge is perfect for kids and parents of all ages. The 17 mile Iconoclast for something just a little different. (It’s a great training run for the NYC Marathon) And\, new in 2016\, a 6 mile walk\, run\, or bike from Irasburg Common to Parker Pie. \nFor one day in October\, we fill these dirt roads through “the gut” of The Northeast Kingdom. Everybody but the 6 milers start at Lakeview Aviation at the Newport Airport in Coventry and heads one way or another to Parker Pie in West Glover\, with great pizza\, great beer\, and great music. 6 milers start at Irasburg Common. Shuttle service back to the start is provided by our friends at Jay Peak.
URL:https://discovernewportvt.com/event/fly-to-pie-kingdom-marathon-october-7-2023-2/
ATTACH;FMTTYPE=image/jpeg:https://discovernewportvt.com/wp-content/uploads/Fly-to-Pie-Logo-2.jpg
END:VEVENT
END:VCALENDAR