BEGIN:VCALENDAR
VERSION:2.0
PRODID:-//Discover Newport Vermont - ECPv6.10.1//NONSGML v1.0//EN
CALSCALE:GREGORIAN
METHOD:PUBLISH
X-WR-CALNAME:Discover Newport Vermont
X-ORIGINAL-URL:https://discovernewportvt.com
X-WR-CALDESC:Events for Discover Newport Vermont
REFRESH-INTERVAL;VALUE=DURATION:PT1H
X-Robots-Tag:noindex
X-PUBLISHED-TTL:PT1H
BEGIN:VTIMEZONE
TZID:America/New_York
BEGIN:DAYLIGHT
TZOFFSETFROM:-0500
TZOFFSETTO:-0400
TZNAME:EDT
DTSTART:20240310T070000
END:DAYLIGHT
BEGIN:STANDARD
TZOFFSETFROM:-0400
TZOFFSETTO:-0500
TZNAME:EST
DTSTART:20241103T060000
END:STANDARD
END:VTIMEZONE
BEGIN:VEVENT
DTSTART;TZID=America/New_York:20240927T170000
DTEND;TZID=America/New_York:20240927T190000
DTSTAMP:20260423T083943
CREATED:20240819T171143Z
LAST-MODIFIED:20241009T202659Z
UID:240141-1727456400-1727463600@discovernewportvt.com
SUMMARY:Essentials in Emergency Preparedness for Horse & Livestock Owners
DESCRIPTION:$5 of each tuition will be donated to the Orleans\, VT Fire Department.\nSpend two hours in our Emergency Preparedness Course at the Orleans Fire Station!Covering Disasters\, alert types\, mapping out your property\, essentials of your “Go Bag”\, nose to tail assessments of your livestock\, identifying shock\, what to have on hand for shelter in place\, and more!Course comes with a workbook for your planning and personal preparedness notes.This course is focused on horses and livestock but we will briefly touch on preparing for your pets as well.\n$70 standalone or $50 if you sign up for Livestock Handling for First Responders or Equine Health & Emergency First Aid in Barton\, VT too.\nFor more information\, theory dates and signup\, click here:https://www.allsparkhill.com/events/eep20240927
URL:https://discovernewportvt.com/event/essentials-in-emergency-preparedness-for-horse-livestock-owners/
ATTACH;FMTTYPE=image/jpeg:https://discovernewportvt.com/wp-content/uploads/Essentials-in-Emergency-Preparedness-for-Horse-Livestock-Owners.jpg
END:VEVENT
END:VCALENDAR