BEGIN:VCALENDAR
VERSION:2.0
PRODID:-//Discover Newport Vermont - ECPv6.10.1//NONSGML v1.0//EN
CALSCALE:GREGORIAN
METHOD:PUBLISH
X-WR-CALNAME:Discover Newport Vermont
X-ORIGINAL-URL:https://discovernewportvt.com
X-WR-CALDESC:Events for Discover Newport Vermont
REFRESH-INTERVAL;VALUE=DURATION:PT1H
X-Robots-Tag:noindex
X-PUBLISHED-TTL:PT1H
BEGIN:VTIMEZONE
TZID:America/New_York
BEGIN:DAYLIGHT
TZOFFSETFROM:-0500
TZOFFSETTO:-0400
TZNAME:EDT
DTSTART:20260308T070000
END:DAYLIGHT
BEGIN:STANDARD
TZOFFSETFROM:-0400
TZOFFSETTO:-0500
TZNAME:EST
DTSTART:20261101T060000
END:STANDARD
END:VTIMEZONE
BEGIN:VEVENT
DTSTART;TZID=America/New_York:20260503T103000
DTEND;TZID=America/New_York:20260503T133000
DTSTAMP:20260423T135952
CREATED:20260420T171743Z
LAST-MODIFIED:20260420T171743Z
UID:245554-1777804200-1777815000@discovernewportvt.com
SUMMARY:Brunch Beats! | The Miller Brothers
DESCRIPTION:Join us for some live music and good food!\nWe will be serving Martha’s Bagels with 5 Generations Quark & mimosas.\nBrunch Service: 10:30am – 1:30pmMusic – 11am – 1pm\nMay 3rd – The Miller Brothers
URL:https://discovernewportvt.com/event/brunch-beats-the-miller-brothers/
LOCATION:Green Mountain Natural Foods\, 194 Main St\, Newport\, VT 05855\, United States\, United States
ATTACH;FMTTYPE=image/jpeg:https://discovernewportvt.com/wp-content/uploads/6-11.jpg
END:VEVENT
END:VCALENDAR