BEGIN:VCALENDAR
VERSION:2.0
PRODID:-//Discover Newport Vermont - ECPv6.10.1//NONSGML v1.0//EN
CALSCALE:GREGORIAN
METHOD:PUBLISH
X-WR-CALNAME:Discover Newport Vermont
X-ORIGINAL-URL:https://discovernewportvt.com
X-WR-CALDESC:Events for Discover Newport Vermont
REFRESH-INTERVAL;VALUE=DURATION:PT1H
X-Robots-Tag:noindex
X-PUBLISHED-TTL:PT1H
BEGIN:VTIMEZONE
TZID:America/New_York
BEGIN:DAYLIGHT
TZOFFSETFROM:-0500
TZOFFSETTO:-0400
TZNAME:EDT
DTSTART:20250309T070000
END:DAYLIGHT
BEGIN:STANDARD
TZOFFSETFROM:-0400
TZOFFSETTO:-0500
TZNAME:EST
DTSTART:20251102T060000
END:STANDARD
END:VTIMEZONE
BEGIN:VEVENT
DTSTART;TZID=America/New_York:20250222T100000
DTEND;TZID=America/New_York:20250222T100000
DTSTAMP:20260425T092943
CREATED:20250212T164317Z
LAST-MODIFIED:20250212T164422Z
UID:243951-1740218400-1740218400@discovernewportvt.com
SUMMARY:Bluffside Farm Snowshoe Tour
DESCRIPTION:Grab your snowshoes or skis and join us out on the trails of Bluffside Farm where we will explore together\, discussing wildlife habitat\, the fields and managed forests\, invasive species control and a wetland restoration project on the property. The event is suitable for all ages and abilities\, just dress for a winter day outdoors. If the snow is not cooperating\, we’ll walk.\nWe will meet at 10AM at the lower parking area for an hour and a half\, moderately paced\, beginner-level ski/snowshoe/walk and discussion. Hot drinks and some sweets will be provided afterwards. \nRegistration is not required\, but strongly encouraged. \nThis is a free event sponsored by Vermont Land Trust\, as well as\, Memphremagog Watershed Association\, Memphremagog Trails\, The City of Newport\, and Vermont Woodlands Association.\nPlease register at: https://vlt.org/events/bluffside-farm-ski-and-snowshoe-tour/
URL:https://discovernewportvt.com/event/bluffside-farm-snowshoe-tour/
LOCATION:Bluffside Farm\, 171 Scott Farm Rd\, Newport\, VT\, 05855\, United States
ATTACH;FMTTYPE=image/webp:https://discovernewportvt.com/wp-content/uploads/WinterSnowshoe.webp
END:VEVENT
END:VCALENDAR